BEGIN:VCALENDAR
PRODID:-//Microsoft Corporation//Outlook 12.0 MIMEDIR//EN
VERSION:2.0
CALSCALE:GREGORIAN
BEGIN:VEVENT
UID: 1cbc8192-7b6f-4b1f-8341-e855114fcedc
SUMMARY:Spordipäev
DTSTAMP:20250916T092000
DTSTART:20250916T092000
DTEND:20250916T114000
LOCATION:Jõgeva linna staadion
DESCRIPTION: <p><strong>Link: </strong>https://siimustilak.edu.ee/sundmuste-kalender/spordipaev-0</p><p><strong>Hind: </strong></p>
STATUS:CONFIRMED
SEQUENCE:3
X-ALT-DESC;FMTTYPE=text/html:<p><strong>Link: </strong>https://siimustilak.edu.ee/sundmuste-kalender/spordipaev-0</p><p><strong>Hind: </strong></p>
X-MICROSOFT-CDO-BUSYSTATUS:OOF
X-MICROSOFT-CDO-IMPORTANCE:1
X-MICROSOFT-DISALLOW-COUNTER:FALSE
X-MS-OLK-ALLOWEXTERNCHECK:TRUE
X-MS-OLK-CONFTYPE:0
X-MICROSOFT-CDO-ALLDAYEVENT:
X-MICROSOFT-MSNCALENDAR-ALLDAYEVENT:
END:VEVENT
END:VCALENDAR